Workbook

Sheet FF66HBS
A1: ლიცენზიის მაძიებელი:
A2: შპს საფეხბურთო კლუბი ,,მეშახტე" | B2: ანგარიშგების წელი | C2: ძველი წელი
B3: 31.12.T-1 | C3: 31.12.T-2
A4: საბალანსო უწყისი
A5: მიმდინარე აქტივები
A6: ფულადი სასხსრები და ფულადი სახსრების ეკვივალენტები | B6: 8660.45 | C6: 8021.51
A7: მოთამაშეთა ტრანსფერებთან დაკავშირებული დებიტორული დავალიანება
A8: ჯგუფის საწარმოებისა და სხვა დაკავშირებული მხარეების დებიტორული დავალიანება
A9: სხვა დებიტორული დავალიანება | B9: 92.11 | C9: 279.16
A10: საგადასახადო აქტივები
A11: მატერიალური მარაგები | B11: 32012.4 | C11: 24610.4
A12: სხვა მიმდინარე აქტივები
A13: მთლიანი მიმდინარე აქტივები | B13: =SUM(B6:B12) -> 40764.96 | C13: =SUM(C6:C12) -> 32911.07
A15: გრძელვადიანი აქტივები
A16: ძირითადი საშუალებები | B16: 5517.09 | C16: 3146.28
A17: არამატერიალური აქტივები - მოთამაშეები
A18: არამატერიალური აქტივები - სხვა
A19: მოთამაშეთა ტრანსფერებთან დაკავშირებული დებიტორული დავალიანება
A20: ჯგუფის საწარმოებისა და სხვა დაკავშირებული მხარეების დებიტორული დავალიანება
A21: საგადასახადო აქტივები
A22: ინვესტიციები
A23: სხვა გრძელვადიანი აქტივები | B23: 5045.8 | C23: 5095.8
A24: მთლიანი გრძელვადიანი აქტივები | B24: =SUM(B16:B23) -> 10562.89 | C24: =SUM(C16:C23) -> 8242.08
A26: მთლიანი აქტივები | B26: =+B24+B13 -> 51327.85 | C26: =+C24+C13 -> 41153.15
A28: მიმდინარე ვალდებულებები
A29: ბანკის ოვერდრაფტები
A30: ბანკის და სხვა სესხები
A31: მოთამაშეთა ტრანსფერებთან დაკავშირებული კრედიტორული დავალიანება | B31: 45 | C31: 145
A32: ჯგუფის საწარმოებისა და სხვა დაკავშირებული მხარეების კრედიტორული დავალიანება | B32: 15330.47 | C32: 7244.61
A33: ვალდებულებები თანამშრომლების მიმართ | B33: 28095.84 | C33: 6348.92
A34: საშემოსავლო გადასახადის ვალდებულება
A35: დარიცხული ვალდებულებები და გადავადებული შემოსავალი
A36: მოკლევადიანი ანარიცხები | B36: 208.71 | C36: 273.31
A37: სხვა მიმდინარე ვალდებულებები | B37: 20000 | C37: 28927.05
A38: მთლიანი მიმდინარე ვალდებულებები | B38: =SUM(B29:B37) -> 63680.02 | C38: =SUM(C29:C37) -> 42938.89
A40: გრძელვადიანი ვალდებულებები
A41: ბანკის და სხვა სესხები | C41: 30000
A42: მოთამაშეთა ტრანსფერებთან დაკავშირებული კრედიტორული დავალიანება
A43: ჯგუფის საწარმოებისა და სხვა დაკავშირებული მხარეების კრედიტორული დავალიანება/სესხები
A44: თანამშრომელთა მიმართ ვალდებულებები
A45: საშემოსავლო გადასახადის ვალდებულება
A46: სხვა საგადასახადო ვალდებულებები
A47: გრძელვადიანი ანარიცხები
A48: სხვა გრძელვადიანი ვალდებულებები
A49: მთლიანი გრძელვადიანი ვალდებულებები | B49: =SUM(B41:B48) -> 0 | C49: =SUM(C41:C48) -> 30000
A51: სულ ვალდებულებები | B51: =+B49+B38 -> 63680.02 | C51: =+C49+C38 -> 72938.89
A53: მთლიანი აქტივები / (ვალდებულებები) | B53: =B26-B51 -> -12352.17 | C53: =C26-C51 -> -31785.74
A55: საკუთარი კაპიტალი
A56: სააქციო/საწესდებო კაპიტალი
A57: გაუნაწილებელი მოგება | B57: -28372.01 | C57: -9859
A58: სხვა რეზერვები | B58: 16019.84 | C58: -21926.74
A59: მთლიანი საკუთარი კაპიტალი | B59: =SUM(B56:B58) -> -12352.17 | C59: =SUM(C56:C58) -> -31785.74
A61: მთლიანი საკუთარი კაპიტალი და მთლიანი ვალდებულებები | B61: =B51+B59 -> 51327.85 | C61: =C51+C59 -> 41153.15
A63: კონტროლი (მთლიანი აქტივები = მთლიანი კაპიტალი და მთლიანი ვალდებულებები) | B63: =B61=B26 -> TRUE | C63: =C61=C26 -> TRUE
A65: მთლიანი კაპიტალის შესაბამისობის შემოწმება
A66: მთლიანი საკუთარი კაპიტალის საწყისი ბალანსი | B66: -21603.74 | C66: -3413.73
A67: პერიოდის მოგება/(ზარალი) დივიდენდების შემდგომ | B67: =FF66HPL!B99 -> 9251.57 | C67: =FF66HPL!C99 -> -28372.01
A68: კაპიტალის გაზრდა/კონტრიბუცია საკუთარ კაპიტალში | B68: 9251.57 | C68: -28372.01
A69: ცვლილება გადაფასების რეზერვში
A70: სხვა მოძრაობები საკუთარ კაპიტალში/რეზერვებში პერიოდის განმავლობაში
A71: მთლიანი საკუთარი კაპიტალის საბოლოო ბალანსი | B71: =SUM(B66:B70) -> -3100.6 | C71: =SUM(C66:C70) -> -60157.75
A72: შემოწმება | B72: =B71=B59 -> FALSE | C72: =C71=C59 -> FALSE
A74: მოთამაშეთა რეგისტრაციის დანახარჯები
A75: დაგროვილი დანახარჯი პერიოდის დასაწყისში
A76: პერიოდის განმავლობაში გაწეული დანახარჯი
A77: დაგროვილი დანახარჯის შემცირება პერიოდის განმავლობაში გაყიდვების/გასვლების შედეგად
A78: დაგროვილი დანახარჯი პერიოდის ბოლოს | B78: =SUM(B75:B77) -> 0 | C78: =SUM(C75:C77) -> 0
A79: მოთამაშეთა რეგისტრაციის ამორტიზაცია
A80: დაგროვილი ამორტიზაცია პერიოდის დასაწყისში
A81: პერიოდის ამორტიზაციის დარიცხვა | B81: =-FF66HPL!B75 -> 0 | C81: =-FF66HPL!C75 -> 0
A82: დაგროვილი ამორტიზაციის შემცირება პერიოდის განმავლობაში გაყიდვების/გასვლების შედეგად
A83: გაუფასურების ანარიცხები პერიოდში | B83: =-FF66HPL!B76 -> 0 | C83: =-FF66HPL!C76 -> 0
A84: დაგროვილი ამორტიზაცია პერიოდის ბოლოს | B84: =SUM(B80:B83) -> 0 | C84: =SUM(C80:C83) -> 0
A85: ნეტო საბალანსო ღირებულება
A86: პერიოდის დასაწყისში | B86: =B75-B80 -> 0 | C86: =C75-C80 -> 0
A87: პერიოდის ბოლოს | B87: =B78-B84 -> 0 | C87: =C78-C84 -> 0
A88: შემოწმება | B88: =B87=B17 -> TRUE | C88: =C87=C17 -> TRUE
A90: ფინანსური ანგარიშგება დამტკიცებულია კლუბის უმაღლესი ხელმძღვანელობის მიერ და სანქციონირებულია გამოსაცემად | B90: [თარიღი]-თვის: | C90: 20.092.2025
A92: ფინანსურ ანგარიშგებას კლუბის სახელით ხელს აწერს უფლებამოსილი პირი (მიუთითეთ თანამდებობა და ვინაობა):
A93: შპს საფეხბურთო კლუბ ,,მეშახტე"-ს ფინანსისტი - თეიმურაზ კაკუშაძე | B93: თარიღი: | C93: 10.02.2025

Sheet FF66HPL
A1: ლიცენზიის მაძიებელი:
A2: =FF66HBS!A2 -> შპს საფეხბურთო კლუბი ,,მეშახტე" | B2: ანგარიშგების წელი | C2: ძველი წელი
B3: 31.12.T-1 | C3: 31.12.T-2
A4: მოგება-ზარალის უწყისი | B4: =FF66HBS!B4 -> 0 | C4: =FF66HBS!C4 -> 0
A5: ამონაგები ბილეთებიდან - ეროვნული შეჯიბრებები
A6: ამონაგები ბილეთებიდან - უეფას შეჯიბრებები
A7: ამონაგები ბილეთებიდან - აბონემენტები
A8: ამონაგები ბილეთებიდან - საწევროები
A9: ამონაგები ბილეთებიდან - სხვა, რომელიც არა არის ცალკე გამოყოფილი
A10: სულ ამონაგები ბილეთებიდან | B10: =SUM(B5:B9) -> 0 | C10: =SUM(C5:C9) -> 0
A12: სპონსორობა და რეკლამა - დამამზადებელი/მწარმოებელი სპონსორი
A13: სპონსორობა და რეკლამა - ძირითადი სპონსორი
A14: სპონსორობა და რეკლამა - სტადიონის სპონსორი
A15: სპონსორობა და რეკლამა - რეკლამები მოედნის პერიმეტრზე და დაფებზე
A16: სპონსორობა და რეკლამა - სხვა, რომელიც არა არის ცალკე გამოყოფილი
A17: სულ სპონსორობა და რეკლამა | B17: =SUM(B12:B16) -> 0 | C17: =SUM(C12:C16) -> 0
A19: ტელეტრანსლაციის უფლებები - ეროვნული შეჯიბრებები
A20: ტელეტრანსლაციის უფლებები - სხვა, რომელიც არა არის ცალკე გამოყოფილი
A21: სულ ტრანსლაციის უფლებები | B21: =SUM(B19:B20) -> 0 | C21: =SUM(C19:C20) -> 0
A23: კომერციული - ეროვნული შეჯიბრებები
A24: კომერციული - საქონლის გაყიდვა
A25: კომერციული - ინფრასტრუქტურის გამოყენება არასამატჩო დღეებში
A26: კომერციული - სხვა, რომელიც არა არის ცალკე გამოყოფილი
A27: სულ კომერციული | B27: =SUM(B23:B26) -> 0 | C27: =SUM(C23:C26) -> 0
A29: უეფას საკლუბო შეჯიბრებები - ტრანსლაციის უფლებები, კომერციული, საპრიზო ფონდი/თანხები
A30: უეფას საკლუბო შეჯიბრებები - სოლიდარობის გადასახადი
A31: უეფას სოლიდარობა და საპრიზო, რომელიც ცალკე არ არის გამოყოფილი
A32: სულ უეფას სოლიდარობის და საპრიზო თანხა | B32: =SUM(B29:B31) -> 0 | C32: =SUM(C29:C31) -> 0
A34: სუბსიდიები, შემოწირულობები და სხვა თანხები ეროვნული საფეხბურთო ორგანოებიდან | B34: 782900 | C34: 582300
A35: სუბსიდიები, გრანტები და სხვა თანხები სახელმწიფო და მუნიციპალური ხელისუფლებისგან | B35: 430341.66 | C35: 151477.22
A36: შემოწირულობები არადაკავშირებული მხარეებისგან
A37: შენატანები/შემოწირულობები დაკავშირებული მხარეებისგან
A38: შემოსავალი არასაფეხბურთო საქმიანობებიდან
A39: განსაკუთრებული (გამონაკლისი) შემოსავალი
A40: სხვა საოპერაციო შემოსავალი, რომელიც ცალკე არა არის გამოყოფილი
A41: სულ სხვა შემოსავალი | B41: =SUM(B34:B40) -> 1213241.7 | C41: =SUM(C34:C40) -> 733777.22
A43: სულ შემოსავალი | B43: =+B41+B32+B27+B21+B17+B10 -> 1213241.7 | C43: =+C41+C32+C27+C21+C17+C10 -> 733777.22
A45: რეალიზებული პროდუქციის/მასალების ხარჯები, რომლებიც ცალკე არ არის გამოყოფილი
A46: სულ ხარჯები რეალიზებულ პროდუქციაზე/მასალებზე | B46: =+B45 -> 0 | C46: =+C45 -> 0
A48: ფეხბურთელები - ხელფასი და ანაზღაურება | B48: -415407.53 | C48: -243644.1
A49: ფეხბურთელები - გადასახადები და სოციალური შენატანები | B49: -143244 | C49: -65085.56
A50: ფეხბურთელების სარგებელი და სხვა ხარჯები, რომლებიც ცალკე არაა გამოყოფილი | B50: -232487.7 | C50: -156432.95
A51: სულ ფეხბურთელების მომსახურების ხარჯები | B51: =SUM(B48:B50) -> -791139.23 | C51: =SUM(C48:C50) -> -465162.61
A52: სხვა თანამშრომლები - ხელფასი და ანაზღაურება | B52: -229062.33 | C52: -165889.21
A53: სხვა თანამშრომლები - გადასახადები და სოციალური შენატანები | B53: -81808 | C53: -41844.02
A54: სხვა თანამშრომლების სარგებელი და სხვა ხარჯები, რომლებიც ცალკე არაა გამოყოფილი | B54: -11521.31 | C54: -8003.2
A55: სულ სხვა თანამშრომლების მომსახურების ხარჯები | B55: =SUM(B52:B54) -> -322391.64 | C55: =SUM(C52:C54) -> -215736.43
A56: თანამშრომლების მომსახურების ხარჯები, რომლებიც ცალკე არა არის გამოყოფილი
A57: სულ თანამშრომლების მომსახურების ხარჯები | B57: =+B56+B55+B51 -> -1113530.9 | C57: =+C56+C55+C51 -> -680899.04
A59: ძირითადი საშუალებების ცვეთა | B59: -459.19 | C59: -249.22
A60: სხვა გრძელვადიანი არამატერიალური აქტივების ამორტიზაცია (გარდა ფეხბურთელების რეგისტრაციისა)
A61: ძირითადი საშუალებების და სხვა არამატერიალური აქტივების გაუფასურება
A62: სულ ცვეთა, ამორტიზაცია და გაუფასურება (გარდა ფეხბურთელების რეგისტრაციებისა) | B62: =SUM(B59:B61) -> -459.19 | C62: =SUM(C59:C61) -> -249.22
A64: მატჩის დღის ხარჯები | B64: -7410 | C64: -6240
A65: სპონსორობისა და რეკლამირების ხარჯები
A66: კომერციული აქტივობების ხარჯები
A67: უძრავი ქონებისა და სათავსოების ხარჯები
A68: არასაფეხბურთო საქმიანობების ხარჯები
A69: განსაკუთრებული (გამონაკლისი) ხარჯები
A70: სხვა საოპერაციო ხარჯი, რომელიც ცალკე არ არის გამოყოფილი | B70: -82590.03 | C70: -74760.97
A71: სულ სხვა საოპერაციო ხარჯი | B71: =SUM(B64:B70) -> -90000.03 | C71: =SUM(C64:C70) -> -81000.97
A73: სულ საოპერაციო ხარჯი (ფეხბურთელების რეგისტრაციის გარეშე) | B73: =B46+B57+B62+B71 -> -1203990.1 | C73: =C46+C57+C62+C71 -> -762149.23
A75: გრძელვადიანი არამატერიალური აქტივების ამორტიზაცია (ფეხბურთელების რეგისტრაცია)
A76: გრძელვადიანი არამატერიალური აქტივების გაუფასურება (ფეხბურთელების რეგისტრაცია)
A77: მოგება გრძელვადიანი არამატერიალური აქტივების რეალიზაციიდან (ფეხბურთელების რეგისტრაცია)
A78: ზარალი გრძელვადიანი არამატერიალური აქტივების რეალიზაციიდან (ფეხბურთელების რეგისტრაცია)
A79: წმინდა შედეგი ფეხბურთელების გაყიდვებიდან_x000D_ კაპიტალიზაციისა და ამორტიზაციის მეთოდის გამოყენებით | B79: =SUM(B75:B78) -> 0 | C79: =SUM(C75:C78) -> 0
A81: მოგება/(ზარალი) ძირითადი საშუალებების გაყიდვიდან/გასვლიდან
A82: მოგება/(ზარალი) სხვა გრძელვადიანი არამატერიალური აქტივების გაყიდვიდან/გასვლიდან
A83: სულ მოგება/(ზარალი) გრძელვადიანი აქტივების გაყიდვიდან/გასვლიდან | B83: =SUM(B81:B82) -> 0 | C83: =SUM(C81:C82) -> 0
A85: ფინანსური შემოსავალი
A86: ფინანსური ხარჯი
A87: წმინდა ფინანსური შემოსავალი (ხარჯი) | B87: =SUM(B85:B86) -> 0 | C87: =SUM(C85:C86) -> 0
A89: სხვა შემოსავალი (არასაოპერაციო)
A90: სხვა ხარჯი (არასაოპერაციო)
A91: წმინდა არასაოპერაციო შემოსავალი (ხარჯი) | B91: =SUM(B89:B90) -> 0 | C91: =SUM(C89:C90) -> 0
A93: საგადასახადო შემოსავალი/(ხარჯი)
A95: მოგება/(ზარალი) დაბეგვრის შემდეგ | B95: =B43+B73+B79+B83+B87+B91+B93 -> 9251.57 | C95: =C43+C73+C79+C83+C87+C91+C93 -> -28372.01
A97: დივიდენდები
A99: მოგება/(ზარალი) დივიდენდების შემდეგ | B99: =B95+B97 -> 9251.57 | C99: =C95+C97 -> -28372.01
A101: ფინანსური ანგარიშგება დამტკიცებულია კლუბის უმაღლესი ხელმძღვანელობის მიერ და სანქციონირებულია გამოსაცემად | B101: [თარიღი]-თვის: | C101: 20.02.2025
A103: ფინანსურ ანგარიშგებას კლუბის სახელით ხელს აწერს უფლებამოსილი პირი (მიუთითეთ თანამდებობა და ვინაობა):
A104: =FF66HBS!A93 -> შპს საფეხბურთო კლუბ ,,მეშახტე"-ს ფინანსისტი - თეიმურაზ კაკუშაძე | B104: თარიღი: | C104: 10.02.2025

Sheet FF66HCF
A1: ლიცენზიის მაძებელი:
A2: =FF66HBS!A2 -> შპს საფეხბურთო კლუბი ,,მეშახტე" | B2: ანგარიშგების წელი | C2: ძველი წელი
B3: 31.12.T-1 | C3: 31.12.T-2
A4: ფულადი სახსრების მოძრაობის უწყისი | B4: =FF66HBS!B4 -> 0 | C4: =FF66HBS!C4 -> 0
A5: წმინდა ფულადი ნაკადების შემოსვლა/(გასვლა) საოპერაციო საქმიანობიდან | B5: 1213241.7 | C5: 733777.22
A7: ფულადი ნაკადები საინვესტიციო საქმიანობიდან
A8: ფეხბურთელების რეგისტრაციების გაყიდვიდან მიღებული ფულადი სახსრები
A9: მოთამაშეთა რეგისტრაციების შესაძენად (გადახდილი) ფულადი სახსრები
A10: ძირითადი საშუალებების გაყიდვიდან მიღებული ფულადი სახსრები
A11: ძირითადი საშუალებების შესაძენად (გადახდილი) ფულადი სახსრები
A12: ფულადი ნაკადების შემოსვლა/(გასვლა) საინვესტიციო საქმიანობიდან, რომელიც არ არის ცალკე გამოყოფილი
A13: ფულადი ნაკადების შემოსვლა/(გასვლა) საინვესტიციო საქმიანობიდან | B13: =SUM(B8:B12) -> 0 | C13: =SUM(C8:C12) -> 0
A15: ფულადი ნაკადები საფინანსო საქმიანობიდან
A16: მიღებული ფულადი სახსრები სესხებიდან - მეწილეები/აქციონერები და დაკავშირებული მხარე
A17: (გადახდილი) ფულადი სახსრები სესხების დასაფარად - მეწილეები/აქციონერები და დაკავშირებული მხარე
A18: მიღებული ფულადი სახსრები სესხებიდან - საფინანსო დაწესებულებები
A19: (გადახდილი) ფულადი სახსრები სესხების დასაფარად - საფინანსო დაწესებულებები
A20: სააქციო/საწესდებო კაპიტალის გაზრდით მიღებული ფულადი სახსრები
A21: (გადახდილი) ფულადი სახსრები მეწილეებისთვის/აქციონერებისთვის დივიდენდების გადახდიდან
A22: ფულადი ნაკადების შემოსვლა/(გასვლა) ფინანსური საქმიანობიდან, რომელიც ცალკე არ არის გამოყოფილი
A23: ფულადი ნაკადების შემოსვლა/(გასვლა) ფინანსური საქმიანობიდან | B23: =SUM(B16:B22) -> 0 | C23: =SUM(C16:C22) -> 0
A25: სხვა ფულადი ნაკადების შემოსვლა/(გასვლა)
A27: წმინდა ფულადი ნაკადების შემოსვლა/(გასვლა) საანგარიშგებო პერიოდში | B27: =B5+B13+B23+B25 -> 1213241.7 | C27: =C5+C13+C23+C25 -> 733777.22
A29: ფულადი სახსრებისა და მათი ეკვივალენტების რეკონსილაცია
A31: საანგარიშგებო პერიოდის საწყისი ბალანსი
A32: წმინდა ფულადი ნაკადები საანგარიშგებო პერიოდის განმავლობაში | B32: =B27 -> 1213241.7 | C32: =C27 -> 733777.22
A33: საანგარიშგებო პერიოდის საბოლოო ბალანსი | B33: =SUM(B31:B32) -> 1213241.7 | C33: =SUM(C31:C32) -> 733777.22
A34: ფულადი სახსრები და მათი ეკვივალენტები, გამოკლებული ბანკის ოვერდრაფტები (საბალანსო უწყისიდან) | B34: =FF66HBS!B6-FF66HBS!B29 -> 8660.45 | C34: =FF66HBS!C6-FF66HBS!C29 -> 8021.51
A36: ფინანსური ანგარიშგება დამტკიცებულია კლუბის უმაღლესი ხელმძღვანელობის მიერ და სანქციონირებულია გამოსაცემად | B36: [თარიღი]-თვის: | C36: 20.02.2025
A38: ფინანსურ ანგარიშგებას კლუბის სახელით ხელს აწერს უფლებამოსილი პირი (მიუთითეთ თანამდებობა და ვინაობა):
A39: =FF66HPL!A104 -> შპს საფეხბურთო კლუბ ,,მეშახტე"-ს ფინანსისტი - თეიმურაზ კაკუშაძე | B39: თარიღი: | C39: 10.02.2025
